BEGIN:VCALENDAR
VERSION:2.0
PRODID:-//CGK Leeuwarden - ECPv4.9.12//NONSGML v1.0//EN
CALSCALE:GREGORIAN
METHOD:PUBLISH
X-WR-CALNAME:CGK Leeuwarden
X-ORIGINAL-URL:https://cgkleeuwarden.nl
X-WR-CALDESC:Events for CGK Leeuwarden
BEGIN:VTIMEZONE
TZID:Europe/Amsterdam
BEGIN:DAYLIGHT
TZOFFSETFROM:+0100
TZOFFSETTO:+0200
TZNAME:CEST
DTSTART:20200329T010000
END:DAYLIGHT
BEGIN:STANDARD
TZOFFSETFROM:+0200
TZOFFSETTO:+0100
TZNAME:CET
DTSTART:20201025T010000
END:STANDARD
END:VTIMEZONE
BEGIN:VEVENT
DTSTART;TZID=Europe/Amsterdam:20201231T190000
DTEND;TZID=Europe/Amsterdam:20201231T200000
DTSTAMP:20260423T091051
CREATED:20180912T185400Z
LAST-MODIFIED:20201227T140527Z
UID:9562-1609441200-1609444800@cgkleeuwarden.nl
SUMMARY:Online oudejaarsdienst
DESCRIPTION:Voorganger ds. Bart Visser\nGastvrouw Mieke Voerman \nMet muzikale medewerking van een combo \nSamen het oude en zeer bewogen jaar afsluiten. \n  \n
URL:https://cgkleeuwarden.nl/event/avonddienst-dankdag/
END:VEVENT
END:VCALENDAR