BEGIN:VCALENDAR
VERSION:2.0
PRODID:-//CGK Leeuwarden - ECPv4.9.12//NONSGML v1.0//EN
CALSCALE:GREGORIAN
METHOD:PUBLISH
X-WR-CALNAME:CGK Leeuwarden
X-ORIGINAL-URL:https://cgkleeuwarden.nl
X-WR-CALDESC:Events for CGK Leeuwarden
BEGIN:VTIMEZONE
TZID:Europe/Amsterdam
BEGIN:DAYLIGHT
TZOFFSETFROM:+0100
TZOFFSETTO:+0200
TZNAME:CEST
DTSTART:20210328T010000
END:DAYLIGHT
BEGIN:STANDARD
TZOFFSETFROM:+0200
TZOFFSETTO:+0100
TZNAME:CET
DTSTART:20211031T010000
END:STANDARD
END:VTIMEZONE
BEGIN:VEVENT
DTSTART;TZID=Europe/Amsterdam:20210523T170000
DTEND;TZID=Europe/Amsterdam:20210523T180000
DTSTAMP:20260423T184848
CREATED:20180912T184045Z
LAST-MODIFIED:20210501T171555Z
UID:9550-1621789200-1621792800@cgkleeuwarden.nl
SUMMARY:Dienst 1e Pinksterdag
DESCRIPTION:Voorganger ds. Bart Visser \n  \n
URL:https://cgkleeuwarden.nl/event/middagdienst-4/
END:VEVENT
END:VCALENDAR