BEGIN:VCALENDAR
VERSION:2.0
PRODID:-//CGK Leeuwarden - ECPv4.9.12//NONSGML v1.0//EN
CALSCALE:GREGORIAN
METHOD:PUBLISH
X-WR-CALNAME:CGK Leeuwarden
X-ORIGINAL-URL:https://cgkleeuwarden.nl
X-WR-CALDESC:Events for CGK Leeuwarden
BEGIN:VTIMEZONE
TZID:Europe/Amsterdam
BEGIN:DAYLIGHT
TZOFFSETFROM:+0100
TZOFFSETTO:+0200
TZNAME:CEST
DTSTART:20200329T010000
END:DAYLIGHT
BEGIN:STANDARD
TZOFFSETFROM:+0200
TZOFFSETTO:+0100
TZNAME:CET
DTSTART:20201025T010000
END:STANDARD
END:VTIMEZONE
BEGIN:VEVENT
DTSTART;TZID=Europe/Amsterdam:20200311T193000
DTEND;TZID=Europe/Amsterdam:20200311T203000
DTSTAMP:20260423T152804
CREATED:20180912T184323Z
LAST-MODIFIED:20191230T212038Z
UID:9554-1583955000-1583958600@cgkleeuwarden.nl
SUMMARY:Biddagdienst: Hoopvol leven met de Schepping
DESCRIPTION:Voorganger Herman Carlier \nThemadienst 4 over het jaarthema Hoopvol leven.\nIn deze dienst staat het thema ‘Hoopvol leven met de Schepping centraal’. \n \n
URL:https://cgkleeuwarden.nl/event/middagdienst-5/
END:VEVENT
END:VCALENDAR