BEGIN:VCALENDAR
VERSION:2.0
PRODID:-//CGK Leeuwarden - ECPv4.9.12//NONSGML v1.0//EN
CALSCALE:GREGORIAN
METHOD:PUBLISH
X-WR-CALNAME:CGK Leeuwarden
X-ORIGINAL-URL:https://cgkleeuwarden.nl
X-WR-CALDESC:Events for CGK Leeuwarden
BEGIN:VTIMEZONE
TZID:Europe/Amsterdam
BEGIN:DAYLIGHT
TZOFFSETFROM:+0100
TZOFFSETTO:+0200
TZNAME:CEST
DTSTART:20210328T010000
END:DAYLIGHT
BEGIN:STANDARD
TZOFFSETFROM:+0200
TZOFFSETTO:+0100
TZNAME:CET
DTSTART:20211031T010000
END:STANDARD
END:VTIMEZONE
BEGIN:VEVENT
DTSTART;TZID=Europe/Amsterdam:20210516T093000
DTEND;TZID=Europe/Amsterdam:20210516T103000
DTSTAMP:20260423T054059
CREATED:20180912T185549Z
LAST-MODIFIED:20210501T171252Z
UID:9634-1621157400-1621161000@cgkleeuwarden.nl
SUMMARY:Dienst
DESCRIPTION:Voorganger ds. Herman Carlier \n
URL:https://cgkleeuwarden.nl/event/middagdienst-6-2/
END:VEVENT
END:VCALENDAR