BEGIN:VCALENDAR
VERSION:2.0
PRODID:-//CGK Leeuwarden - ECPv4.9.12//NONSGML v1.0//EN
CALSCALE:GREGORIAN
METHOD:PUBLISH
X-WR-CALNAME:CGK Leeuwarden
X-ORIGINAL-URL:https://cgkleeuwarden.nl
X-WR-CALDESC:Events for CGK Leeuwarden
BEGIN:VTIMEZONE
TZID:Europe/Amsterdam
BEGIN:DAYLIGHT
TZOFFSETFROM:+0100
TZOFFSETTO:+0200
TZNAME:CEST
DTSTART:20200329T010000
END:DAYLIGHT
BEGIN:STANDARD
TZOFFSETFROM:+0200
TZOFFSETTO:+0100
TZNAME:CET
DTSTART:20201025T010000
END:STANDARD
END:VTIMEZONE
BEGIN:VEVENT
DTSTART;TZID=Europe/Amsterdam:20200315T170000
DTEND;TZID=Europe/Amsterdam:20200315T180000
DTSTAMP:20260423T165725
CREATED:20180912T184231Z
LAST-MODIFIED:20200314T214614Z
UID:10567-1584291600-1584295200@cgkleeuwarden.nl
SUMMARY:Online dienst - Zeker weten en vast vertrouwen
DESCRIPTION:Deze dienst is alleen online te volgen via de site Kerkdienst gemist of log in op chrch app. De dienst is minder uitgebreid dan de ochtenddienst. \nDs. Herman Carlier neemt je vanmiddag mee over zondag 7 van de Heidelbergse Catechismus. \nDe collecte is bestemd voor algemene middelen en landelijk kerkverband. De makkelijkste manier om te geven is via de chrch app. \n  \n
URL:https://cgkleeuwarden.nl/event/morgendienst-6-2/
END:VEVENT
END:VCALENDAR