BEGIN:VCALENDAR
VERSION:2.0
PRODID:-//CGK Leeuwarden - ECPv4.9.12//NONSGML v1.0//EN
CALSCALE:GREGORIAN
METHOD:PUBLISH
X-WR-CALNAME:CGK Leeuwarden
X-ORIGINAL-URL:https://cgkleeuwarden.nl
X-WR-CALDESC:Events for CGK Leeuwarden
BEGIN:VTIMEZONE
TZID:Europe/Amsterdam
BEGIN:DAYLIGHT
TZOFFSETFROM:+0100
TZOFFSETTO:+0200
TZNAME:CEST
DTSTART:20200329T010000
END:DAYLIGHT
BEGIN:STANDARD
TZOFFSETFROM:+0200
TZOFFSETTO:+0100
TZNAME:CET
DTSTART:20201025T010000
END:STANDARD
END:VTIMEZONE
BEGIN:VEVENT
DTSTART;TZID=Europe/Amsterdam:20200308T093000
DTEND;TZID=Europe/Amsterdam:20200308T104500
DTSTAMP:20260423T071915
CREATED:20180912T185456Z
LAST-MODIFIED:20191230T211045Z
UID:9638-1583659800-1583664300@cgkleeuwarden.nl
SUMMARY:Dienst
DESCRIPTION:Voorganger Herman Carlier \n2e lijdenszondag \n
URL:https://cgkleeuwarden.nl/event/ochtenddienst-2-2/
END:VEVENT
END:VCALENDAR